BEGIN:VCALENDAR
VERSION:2.0
PRODID:-//Willow Pointe HOA - Houston, Texas 77064 - ECPv6.15.17.1//NONSGML v1.0//EN
CALSCALE:GREGORIAN
METHOD:PUBLISH
X-WR-CALNAME:Willow Pointe HOA - Houston, Texas 77064
X-ORIGINAL-URL:https://willowpointe.org
X-WR-CALDESC:Events for Willow Pointe HOA - Houston, Texas 77064
REFRESH-INTERVAL;VALUE=DURATION:PT1H
X-Robots-Tag:noindex
X-PUBLISHED-TTL:PT1H
BEGIN:VTIMEZONE
TZID:America/Chicago
BEGIN:DAYLIGHT
TZOFFSETFROM:-0600
TZOFFSETTO:-0500
TZNAME:CDT
DTSTART:20240310T080000
END:DAYLIGHT
BEGIN:STANDARD
TZOFFSETFROM:-0500
TZOFFSETTO:-0600
TZNAME:CST
DTSTART:20241103T070000
END:STANDARD
BEGIN:DAYLIGHT
TZOFFSETFROM:-0600
TZOFFSETTO:-0500
TZNAME:CDT
DTSTART:20250309T080000
END:DAYLIGHT
BEGIN:STANDARD
TZOFFSETFROM:-0500
TZOFFSETTO:-0600
TZNAME:CST
DTSTART:20251102T070000
END:STANDARD
BEGIN:DAYLIGHT
TZOFFSETFROM:-0600
TZOFFSETTO:-0500
TZNAME:CDT
DTSTART:20260308T080000
END:DAYLIGHT
BEGIN:STANDARD
TZOFFSETFROM:-0500
TZOFFSETTO:-0600
TZNAME:CST
DTSTART:20261101T070000
END:STANDARD
END:VTIMEZONE
BEGIN:VEVENT
DTSTART;VALUE=DATE:20250309
DTEND;VALUE=DATE:20250310
DTSTAMP:20260424T021330
CREATED:20250305T205943Z
LAST-MODIFIED:20250305T205943Z
UID:3808-1741478400-1741564799@willowpointe.org
SUMMARY:Daylight Savings Time Begins
DESCRIPTION:
URL:https://willowpointe.org/event/daylight-savings-time-begins-2/
END:VEVENT
BEGIN:VEVENT
DTSTART;VALUE=DATE:20250310
DTEND;VALUE=DATE:20250315
DTSTAMP:20260424T021330
CREATED:20250305T210832Z
LAST-MODIFIED:20250305T210832Z
UID:3822-1741564800-1741996799@willowpointe.org
SUMMARY:CyFair ISD Spring Break
DESCRIPTION:
URL:https://willowpointe.org/event/cyfair-isd-spring-break/
END:VEVENT
BEGIN:VEVENT
DTSTART;TZID=America/Chicago:20250327T190000
DTEND;TZID=America/Chicago:20250327T200000
DTSTAMP:20260424T021330
CREATED:20250305T205612Z
LAST-MODIFIED:20250305T205612Z
UID:3803-1743102000-1743105600@willowpointe.org
SUMMARY:WPHOA Open Board Meeting via Zoom
DESCRIPTION:
URL:https://willowpointe.org/event/wphoa-open-board-meeting-via-zoom-3/
END:VEVENT
END:VCALENDAR