BEGIN:VCALENDAR
VERSION:2.0
PRODID:-//Willow Pointe HOA - Houston, Texas 77064 - ECPv6.15.17.1//NONSGML v1.0//EN
CALSCALE:GREGORIAN
METHOD:PUBLISH
X-ORIGINAL-URL:https://willowpointe.org
X-WR-CALDESC:Events for Willow Pointe HOA - Houston, Texas 77064
REFRESH-INTERVAL;VALUE=DURATION:PT1H
X-Robots-Tag:noindex
X-PUBLISHED-TTL:PT1H
BEGIN:VTIMEZONE
TZID:America/Chicago
BEGIN:DAYLIGHT
TZOFFSETFROM:-0600
TZOFFSETTO:-0500
TZNAME:CDT
DTSTART:20230312T080000
END:DAYLIGHT
BEGIN:STANDARD
TZOFFSETFROM:-0500
TZOFFSETTO:-0600
TZNAME:CST
DTSTART:20231105T070000
END:STANDARD
BEGIN:DAYLIGHT
TZOFFSETFROM:-0600
TZOFFSETTO:-0500
TZNAME:CDT
DTSTART:20240310T080000
END:DAYLIGHT
BEGIN:STANDARD
TZOFFSETFROM:-0500
TZOFFSETTO:-0600
TZNAME:CST
DTSTART:20241103T070000
END:STANDARD
BEGIN:DAYLIGHT
TZOFFSETFROM:-0600
TZOFFSETTO:-0500
TZNAME:CDT
DTSTART:20250309T080000
END:DAYLIGHT
BEGIN:STANDARD
TZOFFSETFROM:-0500
TZOFFSETTO:-0600
TZNAME:CST
DTSTART:20251102T070000
END:STANDARD
END:VTIMEZONE
BEGIN:VEVENT
DTSTART;VALUE=DATE:20240701
DTEND;VALUE=DATE:20240702
DTSTAMP:20260424T103104
CREATED:20240515T155927Z
LAST-MODIFIED:20240515T155927Z
UID:3520-1719792000-1719878399@willowpointe.org
SUMMARY:Pool Closed Today
DESCRIPTION:
URL:https://willowpointe.org/event/pool-closed-today-23/
END:VEVENT
BEGIN:VEVENT
DTSTART;TZID=America/Chicago:20240702T090000
DTEND;TZID=America/Chicago:20240702T140000
DTSTAMP:20260424T103104
CREATED:20240515T155952Z
LAST-MODIFIED:20240515T155952Z
UID:3522-1719910800-1719928800@willowpointe.org
SUMMARY:Pool Open Today
DESCRIPTION:
URL:https://willowpointe.org/event/pool-open-today-28/
END:VEVENT
BEGIN:VEVENT
DTSTART;TZID=America/Chicago:20240703T090000
DTEND;TZID=America/Chicago:20240703T140000
DTSTAMP:20260424T103104
CREATED:20240515T160017Z
LAST-MODIFIED:20240515T160017Z
UID:3524-1719997200-1720015200@willowpointe.org
SUMMARY:Pool Open Today
DESCRIPTION:
URL:https://willowpointe.org/event/pool-open-today-29/
END:VEVENT
BEGIN:VEVENT
DTSTART;TZID=America/Chicago:20240704T120000
DTEND;TZID=America/Chicago:20240704T200000
DTSTAMP:20260424T103104
CREATED:20240108T180058Z
LAST-MODIFIED:20240515T160234Z
UID:3304-1720094400-1720123200@willowpointe.org
SUMMARY:Independence Day - Pool Open Today
DESCRIPTION:
URL:https://willowpointe.org/event/independence-day-2/
END:VEVENT
BEGIN:VEVENT
DTSTART;TZID=America/Chicago:20240705T090000
DTEND;TZID=America/Chicago:20240705T140000
DTSTAMP:20260424T103104
CREATED:20240515T160323Z
LAST-MODIFIED:20240515T160323Z
UID:3529-1720170000-1720188000@willowpointe.org
SUMMARY:Pool Open Today
DESCRIPTION:
URL:https://willowpointe.org/event/pool-open-today-31/
END:VEVENT
BEGIN:VEVENT
DTSTART;TZID=America/Chicago:20240706T090000
DTEND;TZID=America/Chicago:20240706T210000
DTSTAMP:20260424T103104
CREATED:20240515T160349Z
LAST-MODIFIED:20240515T160349Z
UID:3531-1720256400-1720299600@willowpointe.org
SUMMARY:Pool Open Today
DESCRIPTION:
URL:https://willowpointe.org/event/pool-open-today-32/
END:VEVENT
BEGIN:VEVENT
DTSTART;TZID=America/Chicago:20240707T120000
DTEND;TZID=America/Chicago:20240707T210000
DTSTAMP:20260424T103104
CREATED:20240515T160415Z
LAST-MODIFIED:20240515T160415Z
UID:3533-1720353600-1720386000@willowpointe.org
SUMMARY:Pool Open Today
DESCRIPTION:
URL:https://willowpointe.org/event/pool-open-today-33/
END:VEVENT
BEGIN:VEVENT
DTSTART;VALUE=DATE:20240708
DTEND;VALUE=DATE:20240709
DTSTAMP:20260424T103104
CREATED:20240515T160433Z
LAST-MODIFIED:20240515T160433Z
UID:3535-1720396800-1720483199@willowpointe.org
SUMMARY:Pool Closed Today
DESCRIPTION:
URL:https://willowpointe.org/event/pool-closed-today-24/
END:VEVENT
END:VCALENDAR