BEGIN:VCALENDAR
VERSION:2.0
PRODID:-//Willow Pointe HOA - Houston, Texas 77064 - ECPv6.15.17.1//NONSGML v1.0//EN
CALSCALE:GREGORIAN
METHOD:PUBLISH
X-ORIGINAL-URL:https://willowpointe.org
X-WR-CALDESC:Events for Willow Pointe HOA - Houston, Texas 77064
REFRESH-INTERVAL;VALUE=DURATION:PT1H
X-Robots-Tag:noindex
X-PUBLISHED-TTL:PT1H
BEGIN:VTIMEZONE
TZID:America/Chicago
BEGIN:DAYLIGHT
TZOFFSETFROM:-0600
TZOFFSETTO:-0500
TZNAME:CDT
DTSTART:20230312T080000
END:DAYLIGHT
BEGIN:STANDARD
TZOFFSETFROM:-0500
TZOFFSETTO:-0600
TZNAME:CST
DTSTART:20231105T070000
END:STANDARD
BEGIN:DAYLIGHT
TZOFFSETFROM:-0600
TZOFFSETTO:-0500
TZNAME:CDT
DTSTART:20240310T080000
END:DAYLIGHT
BEGIN:STANDARD
TZOFFSETFROM:-0500
TZOFFSETTO:-0600
TZNAME:CST
DTSTART:20241103T070000
END:STANDARD
BEGIN:DAYLIGHT
TZOFFSETFROM:-0600
TZOFFSETTO:-0500
TZNAME:CDT
DTSTART:20250309T080000
END:DAYLIGHT
BEGIN:STANDARD
TZOFFSETFROM:-0500
TZOFFSETTO:-0600
TZNAME:CST
DTSTART:20251102T070000
END:STANDARD
END:VTIMEZONE
BEGIN:VEVENT
DTSTART;TZID=America/Chicago:20240601T090000
DTEND;TZID=America/Chicago:20240601T210000
DTSTAMP:20260424T112248
CREATED:20240515T154151Z
LAST-MODIFIED:20240515T154151Z
UID:3459-1717232400-1717275600@willowpointe.org
SUMMARY:Pool Open Today
DESCRIPTION:
URL:https://willowpointe.org/event/pool-open-today-2/
END:VEVENT
BEGIN:VEVENT
DTSTART;TZID=America/Chicago:20240602T120000
DTEND;TZID=America/Chicago:20240602T210000
DTSTAMP:20260424T112248
CREATED:20240515T154222Z
LAST-MODIFIED:20240515T154222Z
UID:3461-1717329600-1717362000@willowpointe.org
SUMMARY:Pool Open Today
DESCRIPTION:
URL:https://willowpointe.org/event/pool-open-today-3/
END:VEVENT
BEGIN:VEVENT
DTSTART;VALUE=DATE:20240603
DTEND;VALUE=DATE:20240604
DTSTAMP:20260424T112248
CREATED:20240515T154310Z
LAST-MODIFIED:20240515T154310Z
UID:3464-1717372800-1717459199@willowpointe.org
SUMMARY:Pool Closed Today
DESCRIPTION:
URL:https://willowpointe.org/event/pool-closed-today-19/
END:VEVENT
BEGIN:VEVENT
DTSTART;TZID=America/Chicago:20240604T090000
DTEND;TZID=America/Chicago:20240604T140000
DTSTAMP:20260424T112248
CREATED:20240515T154432Z
LAST-MODIFIED:20240515T154432Z
UID:3466-1717491600-1717509600@willowpointe.org
SUMMARY:Pool Open Today
DESCRIPTION:
URL:https://willowpointe.org/event/pool-open-today-4/
END:VEVENT
BEGIN:VEVENT
DTSTART;TZID=America/Chicago:20240605T090000
DTEND;TZID=America/Chicago:20240605T140000
DTSTAMP:20260424T112248
CREATED:20240515T154455Z
LAST-MODIFIED:20240515T154455Z
UID:3468-1717578000-1717596000@willowpointe.org
SUMMARY:Pool Open Today
DESCRIPTION:
URL:https://willowpointe.org/event/pool-open-today-5/
END:VEVENT
BEGIN:VEVENT
DTSTART;TZID=America/Chicago:20240606T090000
DTEND;TZID=America/Chicago:20240606T140000
DTSTAMP:20260424T112248
CREATED:20240515T154522Z
LAST-MODIFIED:20240515T154522Z
UID:3470-1717664400-1717682400@willowpointe.org
SUMMARY:Pool Open Today
DESCRIPTION:
URL:https://willowpointe.org/event/pool-open-today-6/
END:VEVENT
BEGIN:VEVENT
DTSTART;TZID=America/Chicago:20240607T090000
DTEND;TZID=America/Chicago:20240607T140000
DTSTAMP:20260424T112248
CREATED:20240515T154551Z
LAST-MODIFIED:20240515T154551Z
UID:3472-1717750800-1717768800@willowpointe.org
SUMMARY:Pool Open Today
DESCRIPTION:
URL:https://willowpointe.org/event/pool-open-today-7/
END:VEVENT
BEGIN:VEVENT
DTSTART;TZID=America/Chicago:20240608T090000
DTEND;TZID=America/Chicago:20240608T210000
DTSTAMP:20260424T112248
CREATED:20240515T154650Z
LAST-MODIFIED:20240515T154650Z
UID:3474-1717837200-1717880400@willowpointe.org
SUMMARY:Pool Open Today
DESCRIPTION:
URL:https://willowpointe.org/event/pool-open-today-8/
END:VEVENT
BEGIN:VEVENT
DTSTART;TZID=America/Chicago:20240609T120000
DTEND;TZID=America/Chicago:20240609T210000
DTSTAMP:20260424T112248
CREATED:20240515T154725Z
LAST-MODIFIED:20240515T154725Z
UID:3476-1717934400-1717966800@willowpointe.org
SUMMARY:Pool Open Today
DESCRIPTION:
URL:https://willowpointe.org/event/pool-open-today-9/
END:VEVENT
BEGIN:VEVENT
DTSTART;VALUE=DATE:20240610
DTEND;VALUE=DATE:20240611
DTSTAMP:20260424T112248
CREATED:20240515T154744Z
LAST-MODIFIED:20240515T154744Z
UID:3478-1717977600-1718063999@willowpointe.org
SUMMARY:Pool Closed Today
DESCRIPTION:
URL:https://willowpointe.org/event/pool-closed-today-20/
END:VEVENT
BEGIN:VEVENT
DTSTART;TZID=America/Chicago:20240611T090000
DTEND;TZID=America/Chicago:20240611T140000
DTSTAMP:20260424T112248
CREATED:20240515T154823Z
LAST-MODIFIED:20240515T154823Z
UID:3480-1718096400-1718114400@willowpointe.org
SUMMARY:Pool Open Today
DESCRIPTION:
URL:https://willowpointe.org/event/pool-open-today-10/
END:VEVENT
BEGIN:VEVENT
DTSTART;TZID=America/Chicago:20240611T190000
DTEND;TZID=America/Chicago:20240611T203000
DTSTAMP:20260424T112248
CREATED:20240515T152311Z
LAST-MODIFIED:20240515T152311Z
UID:3440-1718132400-1718137800@willowpointe.org
SUMMARY:WPHOA Annual Meeting via Zoom
DESCRIPTION:
URL:https://willowpointe.org/event/wphoa-annual-meeting-via-zoom/
END:VEVENT
BEGIN:VEVENT
DTSTART;TZID=America/Chicago:20240612T090000
DTEND;TZID=America/Chicago:20240612T140000
DTSTAMP:20260424T112248
CREATED:20240515T154850Z
LAST-MODIFIED:20240515T154850Z
UID:3482-1718182800-1718200800@willowpointe.org
SUMMARY:Pool Open Today
DESCRIPTION:
URL:https://willowpointe.org/event/pool-open-today-11/
END:VEVENT
BEGIN:VEVENT
DTSTART;TZID=America/Chicago:20240613T090000
DTEND;TZID=America/Chicago:20240613T140000
DTSTAMP:20260424T112248
CREATED:20240515T154916Z
LAST-MODIFIED:20240515T154916Z
UID:3484-1718269200-1718287200@willowpointe.org
SUMMARY:Pool Open Today
DESCRIPTION:
URL:https://willowpointe.org/event/pool-open-today-12/
END:VEVENT
BEGIN:VEVENT
DTSTART;TZID=America/Chicago:20240614T090000
DTEND;TZID=America/Chicago:20240614T140000
DTSTAMP:20260424T112248
CREATED:20240515T155101Z
LAST-MODIFIED:20240515T155101Z
UID:3486-1718355600-1718373600@willowpointe.org
SUMMARY:Pool Open Today
DESCRIPTION:
URL:https://willowpointe.org/event/pool-open-today-13/
END:VEVENT
BEGIN:VEVENT
DTSTART;TZID=America/Chicago:20240615T090000
DTEND;TZID=America/Chicago:20240615T210000
DTSTAMP:20260424T112248
CREATED:20240515T155125Z
LAST-MODIFIED:20240515T155125Z
UID:3488-1718442000-1718485200@willowpointe.org
SUMMARY:Pool Open Today
DESCRIPTION:
URL:https://willowpointe.org/event/pool-open-today-14/
END:VEVENT
BEGIN:VEVENT
DTSTART;TZID=America/Chicago:20240616T120000
DTEND;TZID=America/Chicago:20240616T210000
DTSTAMP:20260424T112248
CREATED:20240515T155152Z
LAST-MODIFIED:20240515T155152Z
UID:3490-1718539200-1718571600@willowpointe.org
SUMMARY:Pool Open Today
DESCRIPTION:
URL:https://willowpointe.org/event/pool-open-today-15/
END:VEVENT
BEGIN:VEVENT
DTSTART;VALUE=DATE:20240617
DTEND;VALUE=DATE:20240618
DTSTAMP:20260424T112248
CREATED:20240515T155218Z
LAST-MODIFIED:20240515T155218Z
UID:3492-1718582400-1718668799@willowpointe.org
SUMMARY:Pool Closed Today
DESCRIPTION:
URL:https://willowpointe.org/event/pool-closed-today-21/
END:VEVENT
BEGIN:VEVENT
DTSTART;TZID=America/Chicago:20240618T090000
DTEND;TZID=America/Chicago:20240618T140000
DTSTAMP:20260424T112248
CREATED:20240515T155244Z
LAST-MODIFIED:20240515T155244Z
UID:3494-1718701200-1718719200@willowpointe.org
SUMMARY:Pool Open Today
DESCRIPTION:
URL:https://willowpointe.org/event/pool-open-today-16/
END:VEVENT
BEGIN:VEVENT
DTSTART;VALUE=DATE:20240619
DTEND;VALUE=DATE:20240620
DTSTAMP:20260424T112248
CREATED:20240108T180016Z
LAST-MODIFIED:20240108T180016Z
UID:3302-1718755200-1718841599@willowpointe.org
SUMMARY:Juneteenth
DESCRIPTION:
URL:https://willowpointe.org/event/juneteenth-2/
END:VEVENT
BEGIN:VEVENT
DTSTART;TZID=America/Chicago:20240619T090000
DTEND;TZID=America/Chicago:20240619T140000
DTSTAMP:20260424T112248
CREATED:20240515T155309Z
LAST-MODIFIED:20240515T155309Z
UID:3496-1718787600-1718805600@willowpointe.org
SUMMARY:Pool Open Today
DESCRIPTION:
URL:https://willowpointe.org/event/pool-open-today-17/
END:VEVENT
BEGIN:VEVENT
DTSTART;TZID=America/Chicago:20240620T090000
DTEND;TZID=America/Chicago:20240620T140000
DTSTAMP:20260424T112248
CREATED:20240515T155334Z
LAST-MODIFIED:20240515T155334Z
UID:3498-1718874000-1718892000@willowpointe.org
SUMMARY:Pool Open Today
DESCRIPTION:
URL:https://willowpointe.org/event/pool-open-today-18/
END:VEVENT
BEGIN:VEVENT
DTSTART;TZID=America/Chicago:20240621T090000
DTEND;TZID=America/Chicago:20240621T140000
DTSTAMP:20260424T112248
CREATED:20240515T155400Z
LAST-MODIFIED:20240515T155400Z
UID:3500-1718960400-1718978400@willowpointe.org
SUMMARY:Pool Open Today
DESCRIPTION:
URL:https://willowpointe.org/event/pool-open-today-19/
END:VEVENT
BEGIN:VEVENT
DTSTART;TZID=America/Chicago:20240622T090000
DTEND;TZID=America/Chicago:20240622T210000
DTSTAMP:20260424T112248
CREATED:20240515T155428Z
LAST-MODIFIED:20240515T155428Z
UID:3502-1719046800-1719090000@willowpointe.org
SUMMARY:Pool Open Today
DESCRIPTION:
URL:https://willowpointe.org/event/pool-open-today-20/
END:VEVENT
BEGIN:VEVENT
DTSTART;TZID=America/Chicago:20240623T120000
DTEND;TZID=America/Chicago:20240623T210000
DTSTAMP:20260424T112248
CREATED:20240515T155452Z
LAST-MODIFIED:20240515T155452Z
UID:3504-1719144000-1719176400@willowpointe.org
SUMMARY:Pool Open Today
DESCRIPTION:
URL:https://willowpointe.org/event/pool-open-today-21/
END:VEVENT
BEGIN:VEVENT
DTSTART;VALUE=DATE:20240624
DTEND;VALUE=DATE:20240625
DTSTAMP:20260424T112248
CREATED:20240515T155511Z
LAST-MODIFIED:20240515T155511Z
UID:3506-1719187200-1719273599@willowpointe.org
SUMMARY:Pool Closed Today
DESCRIPTION:
URL:https://willowpointe.org/event/pool-closed-today-22/
END:VEVENT
BEGIN:VEVENT
DTSTART;TZID=America/Chicago:20240625T090000
DTEND;TZID=America/Chicago:20240625T140000
DTSTAMP:20260424T112248
CREATED:20240515T155623Z
LAST-MODIFIED:20240515T155623Z
UID:3508-1719306000-1719324000@willowpointe.org
SUMMARY:Pool Open Today
DESCRIPTION:
URL:https://willowpointe.org/event/pool-open-today-22/
END:VEVENT
BEGIN:VEVENT
DTSTART;TZID=America/Chicago:20240626T090000
DTEND;TZID=America/Chicago:20240626T140000
DTSTAMP:20260424T112248
CREATED:20240515T155649Z
LAST-MODIFIED:20240515T155649Z
UID:3510-1719392400-1719410400@willowpointe.org
SUMMARY:Pool Open Today
DESCRIPTION:
URL:https://willowpointe.org/event/pool-open-today-23/
END:VEVENT
BEGIN:VEVENT
DTSTART;TZID=America/Chicago:20240627T090000
DTEND;TZID=America/Chicago:20240627T140000
DTSTAMP:20260424T112248
CREATED:20240515T155720Z
LAST-MODIFIED:20240515T155720Z
UID:3512-1719478800-1719496800@willowpointe.org
SUMMARY:Pool Open Today
DESCRIPTION:
URL:https://willowpointe.org/event/pool-open-today-24/
END:VEVENT
BEGIN:VEVENT
DTSTART;TZID=America/Chicago:20240628T090000
DTEND;TZID=America/Chicago:20240628T140000
DTSTAMP:20260424T112248
CREATED:20240515T155814Z
LAST-MODIFIED:20240515T155814Z
UID:3514-1719565200-1719583200@willowpointe.org
SUMMARY:Pool Open Today
DESCRIPTION:
URL:https://willowpointe.org/event/pool-open-today-25/
END:VEVENT
END:VCALENDAR