BEGIN:VCALENDAR
VERSION:2.0
PRODID:-//Willow Pointe HOA - Houston, Texas 77064 - ECPv6.15.17.1//NONSGML v1.0//EN
CALSCALE:GREGORIAN
METHOD:PUBLISH
X-WR-CALNAME:Willow Pointe HOA - Houston, Texas 77064
X-ORIGINAL-URL:https://willowpointe.org
X-WR-CALDESC:Events for Willow Pointe HOA - Houston, Texas 77064
REFRESH-INTERVAL;VALUE=DURATION:PT1H
X-Robots-Tag:noindex
X-PUBLISHED-TTL:PT1H
BEGIN:VTIMEZONE
TZID:America/Chicago
BEGIN:DAYLIGHT
TZOFFSETFROM:-0600
TZOFFSETTO:-0500
TZNAME:CDT
DTSTART:20230312T080000
END:DAYLIGHT
BEGIN:STANDARD
TZOFFSETFROM:-0500
TZOFFSETTO:-0600
TZNAME:CST
DTSTART:20231105T070000
END:STANDARD
BEGIN:DAYLIGHT
TZOFFSETFROM:-0600
TZOFFSETTO:-0500
TZNAME:CDT
DTSTART:20240310T080000
END:DAYLIGHT
BEGIN:STANDARD
TZOFFSETFROM:-0500
TZOFFSETTO:-0600
TZNAME:CST
DTSTART:20241103T070000
END:STANDARD
BEGIN:DAYLIGHT
TZOFFSETFROM:-0600
TZOFFSETTO:-0500
TZNAME:CDT
DTSTART:20250309T080000
END:DAYLIGHT
BEGIN:STANDARD
TZOFFSETFROM:-0500
TZOFFSETTO:-0600
TZNAME:CST
DTSTART:20251102T070000
END:STANDARD
END:VTIMEZONE
BEGIN:VEVENT
DTSTART;TZID=America/Chicago:20240515T120000
DTEND;TZID=America/Chicago:20240515T200000
DTSTAMP:20260424T121714
CREATED:20240515T160046Z
LAST-MODIFIED:20240515T160046Z
UID:3526-1715774400-1715803200@willowpointe.org
SUMMARY:Pool Open Today
DESCRIPTION:
URL:https://willowpointe.org/event/pool-open-today-30/
END:VEVENT
BEGIN:VEVENT
DTSTART;TZID=America/Chicago:20240518T110000
DTEND;TZID=America/Chicago:20240518T150000
DTSTAMP:20260424T121714
CREATED:20240108T174702Z
LAST-MODIFIED:20240108T174702Z
UID:3285-1716030000-1716044400@willowpointe.org
SUMMARY:WP Community Pool Sneak Preview
DESCRIPTION:
URL:https://willowpointe.org/event/wp-community-pool-sneak-preview/
END:VEVENT
BEGIN:VEVENT
DTSTART;TZID=America/Chicago:20240525T090000
DTEND;TZID=America/Chicago:20240525T210000
DTSTAMP:20260424T121714
CREATED:20240108T174842Z
LAST-MODIFIED:20240515T153541Z
UID:3287-1716627600-1716670800@willowpointe.org
SUMMARY:WP Community Pool Opens
DESCRIPTION:
URL:https://willowpointe.org/event/wp-community-pool-opens/
END:VEVENT
BEGIN:VEVENT
DTSTART;TZID=America/Chicago:20240526T120000
DTEND;TZID=America/Chicago:20240526T210000
DTSTAMP:20260424T121714
CREATED:20240515T153651Z
LAST-MODIFIED:20240515T153651Z
UID:3447-1716724800-1716757200@willowpointe.org
SUMMARY:Pool Open Today
DESCRIPTION:
URL:https://willowpointe.org/event/pool-open-today/
END:VEVENT
BEGIN:VEVENT
DTSTART;VALUE=DATE:20240527
DTEND;VALUE=DATE:20240528
DTSTAMP:20260424T121714
CREATED:20240108T175255Z
LAST-MODIFIED:20240108T175255Z
UID:3293-1716768000-1716854399@willowpointe.org
SUMMARY:Memorial Day
DESCRIPTION:
URL:https://willowpointe.org/event/memorial-day-2/
END:VEVENT
BEGIN:VEVENT
DTSTART;TZID=America/Chicago:20240527T120000
DTEND;TZID=America/Chicago:20240527T200000
DTSTAMP:20260424T121714
CREATED:20240515T153739Z
LAST-MODIFIED:20240515T153739Z
UID:3449-1716811200-1716840000@willowpointe.org
SUMMARY:Memorial Day - Pool Open Today
DESCRIPTION:
URL:https://willowpointe.org/event/memorial-day-pool-open-today/
END:VEVENT
BEGIN:VEVENT
DTSTART;VALUE=DATE:20240528
DTEND;VALUE=DATE:20240529
DTSTAMP:20260424T121714
CREATED:20240515T153816Z
LAST-MODIFIED:20240515T153816Z
UID:3451-1716854400-1716940799@willowpointe.org
SUMMARY:Pool Closed due to CFISD Calendar
DESCRIPTION:
URL:https://willowpointe.org/event/pool-closed-due-to-cfisd-calendar/
END:VEVENT
BEGIN:VEVENT
DTSTART;VALUE=DATE:20240529
DTEND;VALUE=DATE:20240530
DTSTAMP:20260424T121714
CREATED:20240515T153853Z
LAST-MODIFIED:20240515T153853Z
UID:3453-1716940800-1717027199@willowpointe.org
SUMMARY:Pool Closed due to CFISD Calendar
DESCRIPTION:
URL:https://willowpointe.org/event/pool-closed-due-to-cfisd-calendar-2/
END:VEVENT
BEGIN:VEVENT
DTSTART;VALUE=DATE:20240530
DTEND;VALUE=DATE:20240531
DTSTAMP:20260424T121714
CREATED:20240515T154008Z
LAST-MODIFIED:20240515T154008Z
UID:3457-1717027200-1717113599@willowpointe.org
SUMMARY:Pool Closed due to CFISD Calendar
DESCRIPTION:
URL:https://willowpointe.org/event/pool-closed-due-to-cfisd-calendar-4/
END:VEVENT
BEGIN:VEVENT
DTSTART;VALUE=DATE:20240531
DTEND;VALUE=DATE:20240601
DTSTAMP:20260424T121714
CREATED:20240108T181040Z
LAST-MODIFIED:20240108T181040Z
UID:3316-1717113600-1717199999@willowpointe.org
SUMMARY:CFISD Last Day of School
DESCRIPTION:
URL:https://willowpointe.org/event/cfisd-last-day-of-school/
END:VEVENT
BEGIN:VEVENT
DTSTART;VALUE=DATE:20240531
DTEND;VALUE=DATE:20240601
DTSTAMP:20260424T121714
CREATED:20240515T153920Z
LAST-MODIFIED:20240515T154103Z
UID:3455-1717113600-1717199999@willowpointe.org
SUMMARY:Pool Closed due to CFISD Calendar
DESCRIPTION:
URL:https://willowpointe.org/event/pool-closed-due-to-cfisd-calendar-3/
END:VEVENT
END:VCALENDAR