BEGIN:VCALENDAR
VERSION:2.0
PRODID:-//Willow Pointe HOA - Houston, Texas 77064 - ECPv6.15.17.1//NONSGML v1.0//EN
CALSCALE:GREGORIAN
METHOD:PUBLISH
X-WR-CALNAME:Willow Pointe HOA - Houston, Texas 77064
X-ORIGINAL-URL:https://willowpointe.org
X-WR-CALDESC:Events for Willow Pointe HOA - Houston, Texas 77064
REFRESH-INTERVAL;VALUE=DURATION:PT1H
X-Robots-Tag:noindex
X-PUBLISHED-TTL:PT1H
BEGIN:VTIMEZONE
TZID:America/Chicago
BEGIN:DAYLIGHT
TZOFFSETFROM:-0600
TZOFFSETTO:-0500
TZNAME:CDT
DTSTART:20230312T080000
END:DAYLIGHT
BEGIN:STANDARD
TZOFFSETFROM:-0500
TZOFFSETTO:-0600
TZNAME:CST
DTSTART:20231105T070000
END:STANDARD
BEGIN:DAYLIGHT
TZOFFSETFROM:-0600
TZOFFSETTO:-0500
TZNAME:CDT
DTSTART:20240310T080000
END:DAYLIGHT
BEGIN:STANDARD
TZOFFSETFROM:-0500
TZOFFSETTO:-0600
TZNAME:CST
DTSTART:20241103T070000
END:STANDARD
BEGIN:DAYLIGHT
TZOFFSETFROM:-0600
TZOFFSETTO:-0500
TZNAME:CDT
DTSTART:20250309T080000
END:DAYLIGHT
BEGIN:STANDARD
TZOFFSETFROM:-0500
TZOFFSETTO:-0600
TZNAME:CST
DTSTART:20251102T070000
END:STANDARD
END:VTIMEZONE
BEGIN:VEVENT
DTSTART;VALUE=DATE:20240419
DTEND;VALUE=DATE:20240420
DTSTAMP:20260424T132427
CREATED:20230318T180911Z
LAST-MODIFIED:20230318T180911Z
UID:2745-1713484800-1713571199@willowpointe.org
SUMMARY:Spring Community Garage Sale (Friday-Sunday)
DESCRIPTION:
URL:https://willowpointe.org/event/spring-community-garage-sale-friday-sunday/
END:VEVENT
BEGIN:VEVENT
DTSTART;VALUE=DATE:20240420
DTEND;VALUE=DATE:20240421
DTSTAMP:20260424T132427
CREATED:20230318T181037Z
LAST-MODIFIED:20230318T181037Z
UID:2749-1713571200-1713657599@willowpointe.org
SUMMARY:Spring Community Garage Sale (Friday-Sunday)
DESCRIPTION:
URL:https://willowpointe.org/event/spring-community-garage-sale-friday-sunday-3/
END:VEVENT
BEGIN:VEVENT
DTSTART;VALUE=DATE:20240421
DTEND;VALUE=DATE:20240422
DTSTAMP:20260424T132427
CREATED:20230318T180957Z
LAST-MODIFIED:20230318T180957Z
UID:2747-1713657600-1713743999@willowpointe.org
SUMMARY:Spring Community Garage Sale (Friday-Sunday)
DESCRIPTION:
URL:https://willowpointe.org/event/spring-community-garage-sale-friday-sunday-2/
END:VEVENT
END:VCALENDAR