BEGIN:VCALENDAR
VERSION:2.0
PRODID:-//Willow Pointe HOA - Houston, Texas 77064 - ECPv6.15.17.1//NONSGML v1.0//EN
CALSCALE:GREGORIAN
METHOD:PUBLISH
X-ORIGINAL-URL:https://willowpointe.org
X-WR-CALDESC:Events for Willow Pointe HOA - Houston, Texas 77064
REFRESH-INTERVAL;VALUE=DURATION:PT1H
X-Robots-Tag:noindex
X-PUBLISHED-TTL:PT1H
BEGIN:VTIMEZONE
TZID:America/Chicago
BEGIN:DAYLIGHT
TZOFFSETFROM:-0600
TZOFFSETTO:-0500
TZNAME:CDT
DTSTART:20220313T080000
END:DAYLIGHT
BEGIN:STANDARD
TZOFFSETFROM:-0500
TZOFFSETTO:-0600
TZNAME:CST
DTSTART:20221106T070000
END:STANDARD
BEGIN:DAYLIGHT
TZOFFSETFROM:-0600
TZOFFSETTO:-0500
TZNAME:CDT
DTSTART:20230312T080000
END:DAYLIGHT
BEGIN:STANDARD
TZOFFSETFROM:-0500
TZOFFSETTO:-0600
TZNAME:CST
DTSTART:20231105T070000
END:STANDARD
BEGIN:DAYLIGHT
TZOFFSETFROM:-0600
TZOFFSETTO:-0500
TZNAME:CDT
DTSTART:20240310T080000
END:DAYLIGHT
BEGIN:STANDARD
TZOFFSETFROM:-0500
TZOFFSETTO:-0600
TZNAME:CST
DTSTART:20241103T070000
END:STANDARD
END:VTIMEZONE
BEGIN:VEVENT
DTSTART;TZID=America/Chicago:20230701T090000
DTEND;TZID=America/Chicago:20230701T210000
DTSTAMP:20260425T181952
CREATED:20230318T185242Z
LAST-MODIFIED:20230318T185621Z
UID:2822-1688202000-1688245200@willowpointe.org
SUMMARY:Pool Hours 9a - 9p
DESCRIPTION:
URL:https://willowpointe.org/event/pool-hours-12p-9p-6/
END:VEVENT
BEGIN:VEVENT
DTSTART;TZID=America/Chicago:20230702T120000
DTEND;TZID=America/Chicago:20230702T210000
DTSTAMP:20260425T181952
CREATED:20230318T185324Z
LAST-MODIFIED:20230318T185324Z
UID:2824-1688299200-1688331600@willowpointe.org
SUMMARY:Pool Hours 12p - 9p
DESCRIPTION:
URL:https://willowpointe.org/event/pool-hours-12p-9p-7/
END:VEVENT
BEGIN:VEVENT
DTSTART;VALUE=DATE:20230703
DTEND;VALUE=DATE:20230704
DTSTAMP:20260425T181952
CREATED:20230318T185431Z
LAST-MODIFIED:20230318T185431Z
UID:2826-1688342400-1688428799@willowpointe.org
SUMMARY:Pool Closed Today
DESCRIPTION:
URL:https://willowpointe.org/event/pool-closed-today-5/
END:VEVENT
BEGIN:VEVENT
DTSTART;VALUE=DATE:20230704
DTEND;VALUE=DATE:20230705
DTSTAMP:20260425T181952
CREATED:20221209T184132Z
LAST-MODIFIED:20221209T184132Z
UID:2607-1688428800-1688515199@willowpointe.org
SUMMARY:Independence Day
DESCRIPTION:
URL:https://willowpointe.org/event/independence-day/
END:VEVENT
BEGIN:VEVENT
DTSTART;TZID=America/Chicago:20230704T120000
DTEND;TZID=America/Chicago:20230704T200000
DTSTAMP:20260425T181952
CREATED:20230318T185520Z
LAST-MODIFIED:20230318T185520Z
UID:2828-1688472000-1688500800@willowpointe.org
SUMMARY:Pool Hours 12p - 8p
DESCRIPTION:
URL:https://willowpointe.org/event/pool-hours-12p-8p/
END:VEVENT
BEGIN:VEVENT
DTSTART;TZID=America/Chicago:20230705T160000
DTEND;TZID=America/Chicago:20230705T210000
DTSTAMP:20260425T181952
CREATED:20230318T185730Z
LAST-MODIFIED:20230318T185730Z
UID:2832-1688572800-1688590800@willowpointe.org
SUMMARY:Pool Hours 4p - 9p
DESCRIPTION:
URL:https://willowpointe.org/event/pool-hours-4p-9p-11/
END:VEVENT
BEGIN:VEVENT
DTSTART;TZID=America/Chicago:20230706T090000
DTEND;TZID=America/Chicago:20230706T140000
DTSTAMP:20260425T181952
CREATED:20230318T185805Z
LAST-MODIFIED:20230318T185805Z
UID:2834-1688634000-1688652000@willowpointe.org
SUMMARY:Pool Hours 9a - 2p
DESCRIPTION:
URL:https://willowpointe.org/event/pool-hours-9a-2p-11/
END:VEVENT
BEGIN:VEVENT
DTSTART;TZID=America/Chicago:20230707T160000
DTEND;TZID=America/Chicago:20230707T210000
DTSTAMP:20260425T181952
CREATED:20230318T185910Z
LAST-MODIFIED:20230318T185910Z
UID:2836-1688745600-1688763600@willowpointe.org
SUMMARY:Pool Hours 4p - 9p
DESCRIPTION:
URL:https://willowpointe.org/event/pool-hours-4p-9p-12/
END:VEVENT
BEGIN:VEVENT
DTSTART;TZID=America/Chicago:20230708T090000
DTEND;TZID=America/Chicago:20230708T210000
DTSTAMP:20260425T181952
CREATED:20230318T185940Z
LAST-MODIFIED:20230318T185940Z
UID:2838-1688806800-1688850000@willowpointe.org
SUMMARY:Pool Hours 9a - 9p
DESCRIPTION:
URL:https://willowpointe.org/event/pool-hours-9a-9p-5/
END:VEVENT
BEGIN:VEVENT
DTSTART;TZID=America/Chicago:20230709T120000
DTEND;TZID=America/Chicago:20230709T210000
DTSTAMP:20260425T181952
CREATED:20230318T190013Z
LAST-MODIFIED:20230318T190013Z
UID:2840-1688904000-1688936400@willowpointe.org
SUMMARY:Pool Hours 12p - 9p
DESCRIPTION:
URL:https://willowpointe.org/event/pool-hours-12p-9p-8/
END:VEVENT
BEGIN:VEVENT
DTSTART;VALUE=DATE:20230710
DTEND;VALUE=DATE:20230711
DTSTAMP:20260425T181952
CREATED:20230318T190041Z
LAST-MODIFIED:20230318T190041Z
UID:2842-1688947200-1689033599@willowpointe.org
SUMMARY:Pool Closed Today
DESCRIPTION:
URL:https://willowpointe.org/event/pool-closed-today-6/
END:VEVENT
BEGIN:VEVENT
DTSTART;TZID=America/Chicago:20230711T090000
DTEND;TZID=America/Chicago:20230711T140000
DTSTAMP:20260425T181952
CREATED:20230318T190336Z
LAST-MODIFIED:20230318T190336Z
UID:2846-1689066000-1689084000@willowpointe.org
SUMMARY:Pool Hours 9a - 2p
DESCRIPTION:
URL:https://willowpointe.org/event/pool-hours-9a-2p-12/
END:VEVENT
BEGIN:VEVENT
DTSTART;TZID=America/Chicago:20230712T160000
DTEND;TZID=America/Chicago:20230712T210000
DTSTAMP:20260425T181952
CREATED:20230318T190420Z
LAST-MODIFIED:20230318T190420Z
UID:2848-1689177600-1689195600@willowpointe.org
SUMMARY:Pool Hours 4p - 9p
DESCRIPTION:
URL:https://willowpointe.org/event/pool-hours-4p-9p-13/
END:VEVENT
BEGIN:VEVENT
DTSTART;TZID=America/Chicago:20230713T090000
DTEND;TZID=America/Chicago:20230713T140000
DTSTAMP:20260425T181952
CREATED:20230318T190447Z
LAST-MODIFIED:20230318T190447Z
UID:2850-1689238800-1689256800@willowpointe.org
SUMMARY:Pool Hours 9a - 2p
DESCRIPTION:
URL:https://willowpointe.org/event/pool-hours-9a-2p-13/
END:VEVENT
BEGIN:VEVENT
DTSTART;TZID=America/Chicago:20230714T160000
DTEND;TZID=America/Chicago:20230714T210000
DTSTAMP:20260425T181952
CREATED:20230318T190705Z
LAST-MODIFIED:20230318T190705Z
UID:2855-1689350400-1689368400@willowpointe.org
SUMMARY:Pool Hours 4p -9p
DESCRIPTION:
URL:https://willowpointe.org/event/pool-hours-4p-9p-14/
END:VEVENT
BEGIN:VEVENT
DTSTART;TZID=America/Chicago:20230715T090000
DTEND;TZID=America/Chicago:20230715T210000
DTSTAMP:20260425T181952
CREATED:20230318T190737Z
LAST-MODIFIED:20230318T190737Z
UID:2857-1689411600-1689454800@willowpointe.org
SUMMARY:Pool Hours 9a - 9p
DESCRIPTION:
URL:https://willowpointe.org/event/pool-hours-9a-9p-6/
END:VEVENT
BEGIN:VEVENT
DTSTART;TZID=America/Chicago:20230716T120000
DTEND;TZID=America/Chicago:20230716T210000
DTSTAMP:20260425T181952
CREATED:20230318T190930Z
LAST-MODIFIED:20230318T190930Z
UID:2863-1689508800-1689541200@willowpointe.org
SUMMARY:Pool Hours 12p - 9p
DESCRIPTION:
URL:https://willowpointe.org/event/pool-hours-12p-9p-10/
END:VEVENT
BEGIN:VEVENT
DTSTART;VALUE=DATE:20230717
DTEND;VALUE=DATE:20230718
DTSTAMP:20260425T181952
CREATED:20230318T191010Z
LAST-MODIFIED:20230318T191010Z
UID:2865-1689552000-1689638399@willowpointe.org
SUMMARY:Pool Closed Today
DESCRIPTION:
URL:https://willowpointe.org/event/pool-closed-today-8/
END:VEVENT
BEGIN:VEVENT
DTSTART;TZID=America/Chicago:20230718T090000
DTEND;TZID=America/Chicago:20230718T140000
DTSTAMP:20260425T181952
CREATED:20230318T191047Z
LAST-MODIFIED:20230318T191047Z
UID:2867-1689670800-1689688800@willowpointe.org
SUMMARY:Pool Hours 9a - 2p
DESCRIPTION:
URL:https://willowpointe.org/event/pool-hours-9a-2p-15/
END:VEVENT
BEGIN:VEVENT
DTSTART;TZID=America/Chicago:20230719T160000
DTEND;TZID=America/Chicago:20230719T210000
DTSTAMP:20260425T181952
CREATED:20230318T191229Z
LAST-MODIFIED:20230318T191229Z
UID:2871-1689782400-1689800400@willowpointe.org
SUMMARY:Pool Hours 4p - 9p
DESCRIPTION:
URL:https://willowpointe.org/event/pool-hours-4p-9p-16/
END:VEVENT
BEGIN:VEVENT
DTSTART;TZID=America/Chicago:20230720T090000
DTEND;TZID=America/Chicago:20230720T140000
DTSTAMP:20260425T181952
CREATED:20230318T191301Z
LAST-MODIFIED:20230318T191301Z
UID:2873-1689843600-1689861600@willowpointe.org
SUMMARY:Pool Hours 9a - 2p
DESCRIPTION:
URL:https://willowpointe.org/event/pool-hours-9a-2p-16/
END:VEVENT
BEGIN:VEVENT
DTSTART;TZID=America/Chicago:20230721T160000
DTEND;TZID=America/Chicago:20230721T210000
DTSTAMP:20260425T181952
CREATED:20230318T191349Z
LAST-MODIFIED:20230318T191349Z
UID:2875-1689955200-1689973200@willowpointe.org
SUMMARY:Pool Hours 4p - 9p
DESCRIPTION:
URL:https://willowpointe.org/event/pool-hours-4p-9p-17/
END:VEVENT
BEGIN:VEVENT
DTSTART;TZID=America/Chicago:20230722T090000
DTEND;TZID=America/Chicago:20230722T210000
DTSTAMP:20260425T181952
CREATED:20230318T191418Z
LAST-MODIFIED:20230318T191418Z
UID:2877-1690016400-1690059600@willowpointe.org
SUMMARY:Pool Hours 9a - 9p
DESCRIPTION:
URL:https://willowpointe.org/event/pool-hours-9a-9p-7/
END:VEVENT
BEGIN:VEVENT
DTSTART;TZID=America/Chicago:20230722T120000
DTEND;TZID=America/Chicago:20230722T210000
DTSTAMP:20260425T181952
CREATED:20230318T191446Z
LAST-MODIFIED:20230318T191446Z
UID:2879-1690027200-1690059600@willowpointe.org
SUMMARY:Pool Hours 12p - 9p
DESCRIPTION:
URL:https://willowpointe.org/event/pool-hours-12p-9p-11/
END:VEVENT
BEGIN:VEVENT
DTSTART;TZID=America/Chicago:20230723T120000
DTEND;TZID=America/Chicago:20230723T210000
DTSTAMP:20260425T181952
CREATED:20230318T190808Z
LAST-MODIFIED:20230318T190808Z
UID:2859-1690113600-1690146000@willowpointe.org
SUMMARY:Pool Hours 12p - 9p
DESCRIPTION:
URL:https://willowpointe.org/event/pool-hours-12p-9p-9/
END:VEVENT
BEGIN:VEVENT
DTSTART;VALUE=DATE:20230724
DTEND;VALUE=DATE:20230725
DTSTAMP:20260425T181952
CREATED:20230318T190833Z
LAST-MODIFIED:20230318T190833Z
UID:2861-1690156800-1690243199@willowpointe.org
SUMMARY:Pool Closed Today
DESCRIPTION:
URL:https://willowpointe.org/event/pool-closed-today-7/
END:VEVENT
BEGIN:VEVENT
DTSTART;TZID=America/Chicago:20230725T090000
DTEND;TZID=America/Chicago:20230725T140000
DTSTAMP:20260425T181952
CREATED:20230318T190553Z
LAST-MODIFIED:20230318T190553Z
UID:2853-1690275600-1690293600@willowpointe.org
SUMMARY:Pool Hours 9a - 2p
DESCRIPTION:
URL:https://willowpointe.org/event/pool-hours-9a-2p-14/
END:VEVENT
BEGIN:VEVENT
DTSTART;TZID=America/Chicago:20230725T190000
DTEND;TZID=America/Chicago:20230725T200000
DTSTAMP:20260425T181952
CREATED:20230318T174620Z
LAST-MODIFIED:20230318T174620Z
UID:2713-1690311600-1690315200@willowpointe.org
SUMMARY:WPHOA Open Board Meeting
DESCRIPTION:
URL:https://willowpointe.org/event/wphoa-open-board-meeting-3/
LOCATION:Electronically via Zoom
END:VEVENT
BEGIN:VEVENT
DTSTART;TZID=America/Chicago:20230726T160000
DTEND;TZID=America/Chicago:20230726T210000
DTSTAMP:20260425T181952
CREATED:20230318T191707Z
LAST-MODIFIED:20230318T191707Z
UID:2883-1690387200-1690405200@willowpointe.org
SUMMARY:Pool Hours 4p - 9p
DESCRIPTION:
URL:https://willowpointe.org/event/pool-hours-4p-9p-18/
END:VEVENT
BEGIN:VEVENT
DTSTART;TZID=America/Chicago:20230726T190000
DTEND;TZID=America/Chicago:20230726T200000
DTSTAMP:20260425T181952
CREATED:20230816T184432Z
LAST-MODIFIED:20230816T184432Z
UID:3136-1690398000-1690401600@willowpointe.org
SUMMARY:Open BOD Meeting Via Zoom
DESCRIPTION:
URL:https://willowpointe.org/event/open-bod-meeting-via-zoom/
END:VEVENT
END:VCALENDAR