BEGIN:VCALENDAR
VERSION:2.0
PRODID:-//Willow Pointe HOA - Houston, Texas 77064 - ECPv6.15.17.1//NONSGML v1.0//EN
CALSCALE:GREGORIAN
METHOD:PUBLISH
X-WR-CALNAME:Willow Pointe HOA - Houston, Texas 77064
X-ORIGINAL-URL:https://willowpointe.org
X-WR-CALDESC:Events for Willow Pointe HOA - Houston, Texas 77064
REFRESH-INTERVAL;VALUE=DURATION:PT1H
X-Robots-Tag:noindex
X-PUBLISHED-TTL:PT1H
BEGIN:VTIMEZONE
TZID:America/Chicago
BEGIN:DAYLIGHT
TZOFFSETFROM:-0600
TZOFFSETTO:-0500
TZNAME:CDT
DTSTART:20250309T080000
END:DAYLIGHT
BEGIN:STANDARD
TZOFFSETFROM:-0500
TZOFFSETTO:-0600
TZNAME:CST
DTSTART:20251102T070000
END:STANDARD
BEGIN:DAYLIGHT
TZOFFSETFROM:-0600
TZOFFSETTO:-0500
TZNAME:CDT
DTSTART:20260308T080000
END:DAYLIGHT
BEGIN:STANDARD
TZOFFSETFROM:-0500
TZOFFSETTO:-0600
TZNAME:CST
DTSTART:20261101T070000
END:STANDARD
BEGIN:DAYLIGHT
TZOFFSETFROM:-0600
TZOFFSETTO:-0500
TZNAME:CDT
DTSTART:20270314T080000
END:DAYLIGHT
BEGIN:STANDARD
TZOFFSETFROM:-0500
TZOFFSETTO:-0600
TZNAME:CST
DTSTART:20271107T070000
END:STANDARD
END:VTIMEZONE
BEGIN:VEVENT
DTSTART;TZID=America/Chicago:20260322T130000
DTEND;TZID=America/Chicago:20260322T150000
DTSTAMP:20260423T121820
CREATED:20260218T162300Z
LAST-MODIFIED:20260218T162639Z
UID:4043-1774184400-1774191600@willowpointe.org
SUMMARY:Willow Pointe Community Plant Exchange at the Community Park & Swimming Pool Complex)\, 9919 Willow Crossing Drive
DESCRIPTION:
URL:https://willowpointe.org/event/willow-pointe-community-plant-exchange/
LOCATION:Willow Pointe Pool Parking Lot
END:VEVENT
END:VCALENDAR