BEGIN:VCALENDAR
VERSION:2.0
PRODID:-//Willow Pointe HOA - Houston, Texas 77064 - ECPv6.15.17.1//NONSGML v1.0//EN
CALSCALE:GREGORIAN
METHOD:PUBLISH
X-ORIGINAL-URL:https://willowpointe.org
X-WR-CALDESC:Events for Willow Pointe HOA - Houston, Texas 77064
REFRESH-INTERVAL;VALUE=DURATION:PT1H
X-Robots-Tag:noindex
X-PUBLISHED-TTL:PT1H
BEGIN:VTIMEZONE
TZID:America/Chicago
BEGIN:DAYLIGHT
TZOFFSETFROM:-0600
TZOFFSETTO:-0500
TZNAME:CDT
DTSTART:20230312T080000
END:DAYLIGHT
BEGIN:STANDARD
TZOFFSETFROM:-0500
TZOFFSETTO:-0600
TZNAME:CST
DTSTART:20231105T070000
END:STANDARD
BEGIN:DAYLIGHT
TZOFFSETFROM:-0600
TZOFFSETTO:-0500
TZNAME:CDT
DTSTART:20240310T080000
END:DAYLIGHT
BEGIN:STANDARD
TZOFFSETFROM:-0500
TZOFFSETTO:-0600
TZNAME:CST
DTSTART:20241103T070000
END:STANDARD
BEGIN:DAYLIGHT
TZOFFSETFROM:-0600
TZOFFSETTO:-0500
TZNAME:CDT
DTSTART:20250309T080000
END:DAYLIGHT
BEGIN:STANDARD
TZOFFSETFROM:-0500
TZOFFSETTO:-0600
TZNAME:CST
DTSTART:20251102T070000
END:STANDARD
END:VTIMEZONE
BEGIN:VEVENT
DTSTART;VALUE=DATE:20240619
DTEND;VALUE=DATE:20240620
DTSTAMP:20260424T121838
CREATED:20240108T180016Z
LAST-MODIFIED:20240108T180016Z
UID:3302-1718755200-1718841599@willowpointe.org
SUMMARY:Juneteenth
DESCRIPTION:
URL:https://willowpointe.org/event/juneteenth-2/
END:VEVENT
BEGIN:VEVENT
DTSTART;TZID=America/Chicago:20240619T090000
DTEND;TZID=America/Chicago:20240619T140000
DTSTAMP:20260424T121838
CREATED:20240515T155309Z
LAST-MODIFIED:20240515T155309Z
UID:3496-1718787600-1718805600@willowpointe.org
SUMMARY:Pool Open Today
DESCRIPTION:
URL:https://willowpointe.org/event/pool-open-today-17/
END:VEVENT
END:VCALENDAR